BEGIN:VCALENDAR
VERSION:2.0
PRODID:-//NPO法人ヒーリング・ネットワーク - ECPv4.6.20.1//NONSGML v1.0//EN
CALSCALE:GREGORIAN
METHOD:PUBLISH
X-WR-CALNAME:NPO法人ヒーリング・ネットワーク
X-ORIGINAL-URL:https://healing-network.or.jp
X-WR-CALDESC:Events for NPO法人ヒーリング・ネットワーク
BEGIN:VEVENT
DTSTART;TZID=Asia/Tokyo:20260429T110000
DTEND;TZID=Asia/Tokyo:20260429T160000
DTSTAMP:20260422T114349
CREATED:20260421T184750Z
LAST-MODIFIED:20260421T184750Z
UID:4270-1777460400-1777478400@healing-network.or.jp
SUMMARY:ヒーリング・アーツ修練会 in 福岡
DESCRIPTION:　今回のイベントでは、「腰」と「腹」に重点を置いて学びを進行していきます。 \n　心身の姿勢や動きにおいて、「腰を入れる」「腰が抜ける」」「腹に力を込める」「腹が据わる」などの数々の表現がありますが、そこで言及されている腰とは？ \n　そして腹とは？ \n　その範囲は？ \n　どこに、どのような方向から、どうやって力が入っているのか、意識されているのか？ \n　腰と腹の相互の関係は？ \n　こういった腰と腹への根本的な疑問について、ヒーリング・アーツの観点から意識の光を照らしていきます。 \n　イベントの前半では各自の腰と腹の状態について、直接触れ合いながら向かい合い、後半ではヒーリング・アーツにおけるアプローチを扱っていきます。 \n　イベントへの参加にあたっては、準備として以下のテキストを読み込んで準備しておくことを推奨します。 \n　→HN１　ヒーリング・ディスコース『グノーティ・セアウトン』 \n  \n  \n■開催日時\n２０２６年４月２９日（水・祝日）１１：００～１６：００ \n■開催場所\n北九州市立大手町練習場　中練習室２\n→アクセス \n■参加費\n３，０００円 \n■お申し込み\n少人数に限定したイベントになります。定員に達した場合はお申込をお断りする場合がございますので、ご了承ください。\n→イベントお申し込みフォーム \n■持ち物 \n◎動きやすく、体を締め付けない服装でご参加ください。\n◎ミネラルウォーター等の飲み物とタオルをご持参ください。 \n■注意事項\n◎イベント開催中は、携帯電話、スマホの電源をお切りいただくか、マナーモードに設定し、通話はお控え下さい。\n◎イベント中の撮影・録音はご遠慮ください（ヒーリング・ネットワーク関係者が記録のため行なうものを除く）。筆記は自由です。\n◎各自の充分なウイルス対策をお願いします。イベント当日、または前日に急な発熱・体調不良等があれば無理せず参加見送りをご連絡ください。 \n■主催\nヒーリング・ネットワーク 南西地区 \n
URL:https://healing-network.or.jp/events/260429fukuoka/
LOCATION:小倉北区大手町１１番４号　大手町ビル９階・１０階\, 北九州市\, 福岡県\, 8030814\, Japan
CATEGORIES:ワークショップ・講習会
ATTACH;FMTTYPE=image/jpeg:https://healing-network.or.jp/hnorjp2-wp/wp-content/uploads/2026/04/DSCN5513-scaled.jpg
END:VEVENT
END:VCALENDAR